BEGIN:VCALENDAR
VERSION:2.0
PRODID:-//Findhorn Coastal Rowing - ECPv6.15.18//NONSGML v1.0//EN
CALSCALE:GREGORIAN
METHOD:PUBLISH
X-WR-CALNAME:Findhorn Coastal Rowing
X-ORIGINAL-URL:https://www.findhorncoastalrowing.co.uk
X-WR-CALDESC:Events for Findhorn Coastal Rowing
REFRESH-INTERVAL;VALUE=DURATION:PT1H
X-Robots-Tag:noindex
X-PUBLISHED-TTL:PT1H
BEGIN:VTIMEZONE
TZID:Europe/London
BEGIN:DAYLIGHT
TZOFFSETFROM:+0000
TZOFFSETTO:+0100
TZNAME:BST
DTSTART:20230326T010000
END:DAYLIGHT
BEGIN:STANDARD
TZOFFSETFROM:+0100
TZOFFSETTO:+0000
TZNAME:GMT
DTSTART:20231029T010000
END:STANDARD
BEGIN:DAYLIGHT
TZOFFSETFROM:+0000
TZOFFSETTO:+0100
TZNAME:BST
DTSTART:20240331T010000
END:DAYLIGHT
BEGIN:STANDARD
TZOFFSETFROM:+0100
TZOFFSETTO:+0000
TZNAME:GMT
DTSTART:20241027T010000
END:STANDARD
BEGIN:DAYLIGHT
TZOFFSETFROM:+0000
TZOFFSETTO:+0100
TZNAME:BST
DTSTART:20250330T010000
END:DAYLIGHT
BEGIN:STANDARD
TZOFFSETFROM:+0100
TZOFFSETTO:+0000
TZNAME:GMT
DTSTART:20251026T010000
END:STANDARD
END:VTIMEZONE
BEGIN:VEVENT
DTSTART;TZID=Europe/London:20241231T200000
DTEND;TZID=Europe/London:20241231T233000
DTSTAMP:20260421T125817
CREATED:20241112T161603Z
LAST-MODIFIED:20241112T161604Z
UID:23633-1735675200-1735687800@www.findhorncoastalrowing.co.uk
SUMMARY:FCRC Hogmanay Ceilidh
DESCRIPTION:Ceilidh with the Boatshed Band
URL:https://www.findhorncoastalrowing.co.uk/event/fcrc-hogmanay-ceilidh/
LOCATION:The James Milne Institute (JMI)\, Findhorn\, Forres\, IV36 3YF\, United Kingdom
ATTACH;FMTTYPE=image/jpeg:https://www.findhorncoastalrowing.co.uk/wp-content/uploads/2024/11/hogmanay.jpg
END:VEVENT
END:VCALENDAR