BEGIN:VCALENDAR
VERSION:2.0
PRODID:-//Findhorn Coastal Rowing - ECPv6.15.18//NONSGML v1.0//EN
CALSCALE:GREGORIAN
METHOD:PUBLISH
X-WR-CALNAME:Findhorn Coastal Rowing
X-ORIGINAL-URL:https://www.findhorncoastalrowing.co.uk
X-WR-CALDESC:Events for Findhorn Coastal Rowing
REFRESH-INTERVAL;VALUE=DURATION:PT1H
X-Robots-Tag:noindex
X-PUBLISHED-TTL:PT1H
BEGIN:VTIMEZONE
TZID:Europe/London
BEGIN:DAYLIGHT
TZOFFSETFROM:+0000
TZOFFSETTO:+0100
TZNAME:BST
DTSTART:20240331T010000
END:DAYLIGHT
BEGIN:STANDARD
TZOFFSETFROM:+0100
TZOFFSETTO:+0000
TZNAME:GMT
DTSTART:20241027T010000
END:STANDARD
BEGIN:DAYLIGHT
TZOFFSETFROM:+0000
TZOFFSETTO:+0100
TZNAME:BST
DTSTART:20250330T010000
END:DAYLIGHT
BEGIN:STANDARD
TZOFFSETFROM:+0100
TZOFFSETTO:+0000
TZNAME:GMT
DTSTART:20251026T010000
END:STANDARD
BEGIN:DAYLIGHT
TZOFFSETFROM:+0000
TZOFFSETTO:+0100
TZNAME:BST
DTSTART:20260329T010000
END:DAYLIGHT
BEGIN:STANDARD
TZOFFSETFROM:+0100
TZOFFSETTO:+0000
TZNAME:GMT
DTSTART:20261025T010000
END:STANDARD
END:VTIMEZONE
BEGIN:VEVENT
DTSTART;TZID=Europe/London:20250414T191500
DTEND;TZID=Europe/London:20250414T210000
DTSTAMP:20260421T190534
CREATED:20230929T174650Z
LAST-MODIFIED:20250310T210406Z
UID:18011-1744658100-1744664400@www.findhorncoastalrowing.co.uk
SUMMARY:FCRC Monthly Committee Meeting
DESCRIPTION:Monthly meeting of the Clubs Committee to discuss issues and manage the club on behalf of members. \n\n\n\nMembers are welcome to attend or you can contact a Committee Member if you wish to raise any issue.
URL:https://www.findhorncoastalrowing.co.uk/event/fcrc-monthly-committee-meeting/
LOCATION:The James Milne Institute (JMI)\, Findhorn\, Forres\, IV36 3YF\, United Kingdom
ATTACH;FMTTYPE=image/jpeg:https://www.findhorncoastalrowing.co.uk/wp-content/uploads/2023/12/Hands-up.jpg
END:VEVENT
END:VCALENDAR