BEGIN:VCALENDAR
VERSION:2.0
PRODID:-//Findhorn Coastal Rowing - ECPv6.15.18//NONSGML v1.0//EN
CALSCALE:GREGORIAN
METHOD:PUBLISH
X-ORIGINAL-URL:https://www.findhorncoastalrowing.co.uk
X-WR-CALDESC:Events for Findhorn Coastal Rowing
REFRESH-INTERVAL;VALUE=DURATION:PT1H
X-Robots-Tag:noindex
X-PUBLISHED-TTL:PT1H
BEGIN:VTIMEZONE
TZID:Europe/London
BEGIN:DAYLIGHT
TZOFFSETFROM:+0000
TZOFFSETTO:+0100
TZNAME:BST
DTSTART:20250330T010000
END:DAYLIGHT
BEGIN:STANDARD
TZOFFSETFROM:+0100
TZOFFSETTO:+0000
TZNAME:GMT
DTSTART:20251026T010000
END:STANDARD
BEGIN:DAYLIGHT
TZOFFSETFROM:+0000
TZOFFSETTO:+0100
TZNAME:BST
DTSTART:20260329T010000
END:DAYLIGHT
BEGIN:STANDARD
TZOFFSETFROM:+0100
TZOFFSETTO:+0000
TZNAME:GMT
DTSTART:20261025T010000
END:STANDARD
BEGIN:DAYLIGHT
TZOFFSETFROM:+0000
TZOFFSETTO:+0100
TZNAME:BST
DTSTART:20270328T010000
END:DAYLIGHT
BEGIN:STANDARD
TZOFFSETFROM:+0100
TZOFFSETTO:+0000
TZNAME:GMT
DTSTART:20271031T010000
END:STANDARD
END:VTIMEZONE
BEGIN:VEVENT
DTSTART;TZID=Europe/London:20260815T140000
DTEND;TZID=Europe/London:20260815T170000
DTSTAMP:20260421T170127
CREATED:20260211T165536Z
LAST-MODIFIED:20260211T165537Z
UID:29040-1786802400-1786813200@www.findhorncoastalrowing.co.uk
SUMMARY:FCRC Regatta
DESCRIPTION:Our very own club regatta!  Sign up\, join in\, race against our neighbouring clubs.  Brilliant fun with medals!!  More info to follow
URL:https://www.findhorncoastalrowing.co.uk/event/fcrc-regatta/
LOCATION:The Piers Findhorn
END:VEVENT
END:VCALENDAR