BEGIN:VCALENDAR
VERSION:2.0
PRODID:-//Findhorn Coastal Rowing - ECPv6.15.18//NONSGML v1.0//EN
CALSCALE:GREGORIAN
METHOD:PUBLISH
X-WR-CALNAME:Findhorn Coastal Rowing
X-ORIGINAL-URL:https://www.findhorncoastalrowing.co.uk
X-WR-CALDESC:Events for Findhorn Coastal Rowing
REFRESH-INTERVAL;VALUE=DURATION:PT1H
X-Robots-Tag:noindex
X-PUBLISHED-TTL:PT1H
BEGIN:VTIMEZONE
TZID:Europe/London
BEGIN:DAYLIGHT
TZOFFSETFROM:+0000
TZOFFSETTO:+0100
TZNAME:BST
DTSTART:20240331T010000
END:DAYLIGHT
BEGIN:STANDARD
TZOFFSETFROM:+0100
TZOFFSETTO:+0000
TZNAME:GMT
DTSTART:20241027T010000
END:STANDARD
BEGIN:DAYLIGHT
TZOFFSETFROM:+0000
TZOFFSETTO:+0100
TZNAME:BST
DTSTART:20250330T010000
END:DAYLIGHT
BEGIN:STANDARD
TZOFFSETFROM:+0100
TZOFFSETTO:+0000
TZNAME:GMT
DTSTART:20251026T010000
END:STANDARD
BEGIN:DAYLIGHT
TZOFFSETFROM:+0000
TZOFFSETTO:+0100
TZNAME:BST
DTSTART:20260329T010000
END:DAYLIGHT
BEGIN:STANDARD
TZOFFSETFROM:+0100
TZOFFSETTO:+0000
TZNAME:GMT
DTSTART:20261025T010000
END:STANDARD
END:VTIMEZONE
BEGIN:VEVENT
DTSTART;TZID=Europe/London:20250131T190000
DTEND;TZID=Europe/London:20250131T210000
DTSTAMP:20260421T125859
CREATED:20250116T164541Z
LAST-MODIFIED:20250116T164544Z
UID:24225-1738350000-1738357200@www.findhorncoastalrowing.co.uk
SUMMARY:Film Night Fundraiser
DESCRIPTION:
URL:https://www.findhorncoastalrowing.co.uk/event/film-night-fundraiser/
ATTACH;FMTTYPE=image/jpeg:https://www.findhorncoastalrowing.co.uk/wp-content/uploads/2025/01/film2.jpg
END:VEVENT
END:VCALENDAR