BEGIN:VCALENDAR
VERSION:2.0
PRODID:-//Findhorn Coastal Rowing - ECPv6.15.18//NONSGML v1.0//EN
CALSCALE:GREGORIAN
METHOD:PUBLISH
X-ORIGINAL-URL:https://www.findhorncoastalrowing.co.uk
X-WR-CALDESC:Events for Findhorn Coastal Rowing
REFRESH-INTERVAL;VALUE=DURATION:PT1H
X-Robots-Tag:noindex
X-PUBLISHED-TTL:PT1H
BEGIN:VTIMEZONE
TZID:Europe/London
BEGIN:DAYLIGHT
TZOFFSETFROM:+0000
TZOFFSETTO:+0100
TZNAME:BST
DTSTART:20240331T010000
END:DAYLIGHT
BEGIN:STANDARD
TZOFFSETFROM:+0100
TZOFFSETTO:+0000
TZNAME:GMT
DTSTART:20241027T010000
END:STANDARD
BEGIN:DAYLIGHT
TZOFFSETFROM:+0000
TZOFFSETTO:+0100
TZNAME:BST
DTSTART:20250330T010000
END:DAYLIGHT
BEGIN:STANDARD
TZOFFSETFROM:+0100
TZOFFSETTO:+0000
TZNAME:GMT
DTSTART:20251026T010000
END:STANDARD
BEGIN:DAYLIGHT
TZOFFSETFROM:+0000
TZOFFSETTO:+0100
TZNAME:BST
DTSTART:20260329T010000
END:DAYLIGHT
BEGIN:STANDARD
TZOFFSETFROM:+0100
TZOFFSETTO:+0000
TZNAME:GMT
DTSTART:20261025T010000
END:STANDARD
END:VTIMEZONE
BEGIN:VEVENT
DTSTART;TZID=Europe/London:20250508T183000
DTEND;TZID=Europe/London:20250508T210000
DTSTAMP:20260421T190657
CREATED:20250415T081622Z
LAST-MODIFIED:20250415T081627Z
UID:25459-1746729000-1746738000@www.findhorncoastalrowing.co.uk
SUMMARY:Findhorn Village VE Day celebrations
DESCRIPTION:Findhorn Village VE Day celebrations will be held on Thursday evening the 8th May.  The village has organised a service to commemorate VE day. \n\n\n\n1830   Church Bell and remembrance at the War Memorial \n\n\n\nCoastal Rowers in both Joppa and Mairi will be on the water  along with other craft suitably attired with bunting! Launching time TBA   \n\n\n\n2000    Gathering between the piers  – bring own picnic and drinks  \n\n\n\n2130   Lighting of Cresset (Beacon)  between the Piers 
URL:https://www.findhorncoastalrowing.co.uk/event/findhorn-village-ve-day-celebrations/
LOCATION:The Piers Findhorn
END:VEVENT
BEGIN:VEVENT
DTSTART;TZID=Europe/London:20250509T183000
DTEND;TZID=Europe/London:20250509T210000
DTSTAMP:20260421T190657
CREATED:20250409T103144Z
LAST-MODIFIED:20250415T085153Z
UID:25406-1746815400-1746824400@www.findhorncoastalrowing.co.uk
SUMMARY:Joppa's 10th Birthday  Friday 9th May
DESCRIPTION:Come celebrate Joppa’s 10th birthday at the piers\, bring a picnic\, some fizz and a blanket! Hoping to have both boats out weather permitting and have short member “fun ” rows. An informal fun evening for members to join together. \n\n\n\nJoppa was built in the village in a garage over a chilly winter by a very skilled and enthusiastic crew of local people. She has become a bit of a treasure to our village and the club\,  so come along and say Happy Birthday to her! 🙂 \n\n\n\nSign up sheets for those who wish to join in are on the website – to give us an idea of numbers.
URL:https://www.findhorncoastalrowing.co.uk/event/joppas-10th-birthday/
LOCATION:The Piers Findhorn
ATTACH;FMTTYPE=image/jpeg:https://www.findhorncoastalrowing.co.uk/wp-content/uploads/2016/03/cropped-DSC_0268-1.jpg
END:VEVENT
BEGIN:VEVENT
DTSTART;TZID=Europe/London:20250510T100000
DTEND;TZID=Europe/London:20250510T170000
DTSTAMP:20260421T190657
CREATED:20250415T084732Z
LAST-MODIFIED:20250415T084737Z
UID:25466-1746871200-1746896400@www.findhorncoastalrowing.co.uk
SUMMARY:FIVE HARBOUR ROW
DESCRIPTION:Joppa\, along with approx 15 other St Ayles Skiffs from clubs across Scotland\,  will row from Port Soy to Buckie visiting the beautiful little harbours along the way.  Cakes are provided! Crews change regularly to give rowers a break and a chance to enjoy the scenery. \n\n\n\nSign up sheets on the website
URL:https://www.findhorncoastalrowing.co.uk/event/five-harbour-row/
END:VEVENT
BEGIN:VEVENT
DTSTART;TZID=Europe/London:20250520T170000
DTEND;TZID=Europe/London:20250520T193000
DTSTAMP:20260421T190657
CREATED:20250415T082545Z
LAST-MODIFIED:20250415T082652Z
UID:25461-1747760400-1747769400@www.findhorncoastalrowing.co.uk
SUMMARY:Safety Day for all Rowers
DESCRIPTION:The club have organised a safety training evening for our members. Come along and learn how to stay safe whilst rowing our skiffs.  Man overboard\, VHF radio operation\, buoyancy aids and safety procedures on the boat. \n\n\n\nPlease sign up on the website sign up sheets
URL:https://www.findhorncoastalrowing.co.uk/event/safety-day-for-all-rowers/
LOCATION:The Piers Findhorn
END:VEVENT
END:VCALENDAR